BEGIN:VCALENDAR
VERSION:2.0
PRODID:-//Gut Hühnerhof - ECPv5.16.4//NONSGML v1.0//EN
CALSCALE:GREGORIAN
METHOD:PUBLISH
X-ORIGINAL-URL:https://www.gut-huehnerhof.de
X-WR-CALDESC:Events for Gut Hühnerhof
REFRESH-INTERVAL;VALUE=DURATION:PT1H
X-Robots-Tag:noindex
X-PUBLISHED-TTL:PT1H
BEGIN:VTIMEZONE
TZID:Europe/Berlin
BEGIN:DAYLIGHT
TZOFFSETFROM:+0100
TZOFFSETTO:+0200
TZNAME:CEST
DTSTART:20210328T010000
END:DAYLIGHT
BEGIN:STANDARD
TZOFFSETFROM:+0200
TZOFFSETTO:+0100
TZNAME:CET
DTSTART:20211031T010000
END:STANDARD
END:VTIMEZONE
BEGIN:VEVENT
DTSTART;TZID=Europe/Berlin:20210517T130000
DTEND;TZID=Europe/Berlin:20210517T180000
DTSTAMP:20260424T140416
CREATED:20210305T113616Z
LAST-MODIFIED:20210428T123214Z
UID:14510-1621256400-1621274400@www.gut-huehnerhof.de
SUMMARY:Damen 18-LP (17.05.2021)
DESCRIPTION:Dreimal in der Saison heißt es „Ladies only“ im Golfpark Gut Hühnerhof. \nAufgrund der aktuellen Landesbeschlüssen dürfen im Anschluss an das Turnier keine Versammlungen stattfinden\, sodass keine gemeinsame Siegerehrung stattfinden kann. Des Weiteren wird das Turnier in 2er Flights gespielt. Wir bitten um Verständnis und wünschen Ihnen ein schönes Spiel!
URL:https://www.gut-huehnerhof.de/event/damen-18-lp-17-05-2021/
LOCATION:Golfpark Gut Hühnerhof\, Am Golfplatz 1\, Gründau-Gettenbach\, Hessen\, 63584\, Deutschland
CATEGORIES:Golf
ATTACH;FMTTYPE=image/jpeg:https://www.gut-huehnerhof.de/wp-content/uploads/Kalender_Golfturniere_Damen_Turnier-1.jpg
ORGANIZER;CN="Golfsekretariat%20Gut%20H%C3%BChnerhof":MAILTO:golf@gut-huehnerhof.de
END:VEVENT
END:VCALENDAR