BEGIN:VCALENDAR
VERSION:2.0
PRODID:-//Gut Hühnerhof - ECPv5.16.4//NONSGML v1.0//EN
CALSCALE:GREGORIAN
METHOD:PUBLISH
X-ORIGINAL-URL:https://www.gut-huehnerhof.de
X-WR-CALDESC:Events for Gut Hühnerhof
REFRESH-INTERVAL;VALUE=DURATION:PT1H
X-Robots-Tag:noindex
X-PUBLISHED-TTL:PT1H
BEGIN:VTIMEZONE
TZID:Europe/Berlin
BEGIN:DAYLIGHT
TZOFFSETFROM:+0100
TZOFFSETTO:+0200
TZNAME:CEST
DTSTART:20210328T010000
END:DAYLIGHT
BEGIN:STANDARD
TZOFFSETFROM:+0200
TZOFFSETTO:+0100
TZNAME:CET
DTSTART:20211031T010000
END:STANDARD
END:VTIMEZONE
BEGIN:VEVENT
DTSTART;TZID=Europe/Berlin:20210404T150000
DTEND;TZID=Europe/Berlin:20210404T170000
DTSTAMP:20260422T105328
CREATED:20210226T155327Z
LAST-MODIFIED:20210226T155727Z
UID:14176-1617548400-1617555600@www.gut-huehnerhof.de
SUMMARY:Schnupperkurs (04.04.2021)
DESCRIPTION:Dauer:\n1 Tag / Insgesamt 2 Stunden \nInhalt: \n\nFür alle Golfinteressierten und Neueinsteiger – probieren Sie die faszinierende Sportart Golf einmal selbst aus! Einer unserer qualifizierten PGA-Golflehrer bringt Ihnen die verschiedenen Facetten des Golfsports näher\, sowohl in Theorie als auch in der Praxis.\nProbieren Sie erstmalig die verschiedenen Grundschläge „Putten“\, „Chippen“ und „Abschlag“ auf unserer Driving Range aus.\nKurs-Highlight: Testen Sie erste Golferfahrung bei einem Putting-Turnier! Nach den ersten Übungen auf der Driving Range und Chipping Anlage werden Sie ein Putting-Turnier spielen. So erleben Sie Turnier-Feeling hautnah! \nWir stellen Ihnen kostenfrei 2 Token für Übungsbälle und Golfschläger zur Verfügung!\n\nUhrzeit:\n15:00 – 17:00 Uhr \nWeitere Termine:\n25.04.2021 | 16.05.2021 | 06.06.2021 | 27.06.2021 | 18.07.2021 | 08.08.2021 | 29.08.2021 | 19.09.2021 | 10.10.2021 | 31.10.2021
URL:https://www.gut-huehnerhof.de/event/schnupperkurs-04-04-2021/
LOCATION:Golfpark Gut Hühnerhof\, Am Golfplatz 1\, Gründau-Gettenbach\, Hessen\, 63584\, Deutschland
CATEGORIES:Golf
ATTACH;FMTTYPE=image/jpeg:https://www.gut-huehnerhof.de/wp-content/uploads/Kalender_Sshnupperkurs.jpg
ORGANIZER;CN="Golfsekretariat%20Gut%20H%C3%BChnerhof":MAILTO:golf@gut-huehnerhof.de
END:VEVENT
BEGIN:VEVENT
DTSTART;TZID=Europe/Berlin:20210406T090000
DTEND;TZID=Europe/Berlin:20210409T130000
DTSTAMP:20260422T105328
CREATED:20210226T164233Z
LAST-MODIFIED:20210226T164834Z
UID:14281-1617699600-1617973200@www.gut-huehnerhof.de
SUMMARY:Ferien DGV-Platzreife (ab 06.04.2021)
DESCRIPTION:Dauer:\n4 Tage | Insgesamt 16 Stunden \nInhalt: \nSie möchten gerne in kurzer Zeit das Golfspiel von Anfang an fundiert und intensiv erlernen? Dann ist unser DGV-Platzreife-Ferienkurs genau das Richtige für Sie! In unserem Kurs vermitteln wir Ihnen in 16 Trainingseinheiten alle theoretischen und praktischen Inhalte rund um die DGV-Platzreife. In 4 Tagen erhalten Sie täglich 4 Unterrichtsstunden mit dem Golflehrer. Wir stellen Ihnen für den Zeitraum kostenfrei alle Übungsbälle zur Verfügung\, damit Sie auch außerhalb der Trainingseinheiten Ihre Golfkenntnisse im eigenen Training festigen und erweitern können. In der Kursgebühr sind außerdem die Prüfungsgebühren für die praktische Prüfung auf dem 9-Loch-Platz und die theoretische Prüfung auf dem 18-Loch-Platz enthalten. \nPreis pro Person:\n360\,00 € \nUhrzeiten:\ntäglich 09:00 – 13:00 Uhr \nWeitere Termine:\n13.05. – 16.05.2021 | 03.06. – 06.06.2021 | 19.07. – 22.07.2021 | 23.08. – 26.08.2021 | 11.10. – 14.10.2021 |
URL:https://www.gut-huehnerhof.de/event/ferien-dgv-platzreife-06-04-2021/
LOCATION:Golfpark Gut Hühnerhof\, Am Golfplatz 1\, Gründau-Gettenbach\, Hessen\, 63584\, Deutschland
CATEGORIES:Golf
ATTACH;FMTTYPE=image/jpeg:https://www.gut-huehnerhof.de/wp-content/uploads/Kalender_Ferien_DGV_Platzreife.jpg
ORGANIZER;CN="Golfsekretariat%20Gut%20H%C3%BChnerhof":MAILTO:golf@gut-huehnerhof.de
END:VEVENT
BEGIN:VEVENT
DTSTART;TZID=Europe/Berlin:20210410T090000
DTEND;TZID=Europe/Berlin:20210411T180000
DTSTAMP:20260422T105328
CREATED:20210226T160834Z
LAST-MODIFIED:20210226T161002Z
UID:14217-1618045200-1618164000@www.gut-huehnerhof.de
SUMMARY:Gut Hühnerhof Platzerlaubnis (10.04. & 11.04.2021)
DESCRIPTION:Dauer:\n2 Tage / Insgesamt 8 Stunden \nInhalt:\nSie möchten gerne die faszinierende Sportart Golf kennenlernen und schon möglichst bald und unbürokratisch auf einem richtigen Golfplatz spielen? Dann ist unsere „Gut Hühnerhof Platzerlaubnis“ genau das Richtige für Sie!\nIn diesem 8-stündigen Kurs bekommen Sie das Rüstzeug in Theorie und Praxis für das Spielen auf unserer 9-Loch-Anlage an einem Wochenende an die Hand.\nMit der Gut Hühnerhof-Platzerlaubnis dürfen Sie gegen Zahlung des Greenfees unseren 9-Loch-Platz spielen.\nWir stellen Ihnen kostenfrei Golfschläger zur Verfügung! \nPreis pro Person:\n99\,00 € \nUhrzeit:\nSa. 09:00 – 13:00 | So. 14:00 – 18:00 Uhr \nWeitere Termine:\n01.05. & 02.05.2021 | 22.05. & 23.05.2021 | 12.06. & 13.06.2021 | 03.07. & 04.07.2021 | 24.07. & 25.07.2021 | 14.08. & 15.08.2021 | 04.09. & 05.09.2021 | 25.09. & 26.09.2021 |  16.10. & 17.10.2021 |
URL:https://www.gut-huehnerhof.de/event/gut-huehnerhof-platzerlaubnis-10-04-2021/
LOCATION:Golfpark Gut Hühnerhof\, Am Golfplatz 1\, Gründau-Gettenbach\, Hessen\, 63584\, Deutschland
CATEGORIES:Golf
ATTACH;FMTTYPE=image/jpeg:https://www.gut-huehnerhof.de/wp-content/uploads/Kalender_Gut-Hühnerhof-Platzerlaubnis.jpg
ORGANIZER;CN="Golfsekretariat%20Gut%20H%C3%BChnerhof":MAILTO:golf@gut-huehnerhof.de
END:VEVENT
BEGIN:VEVENT
DTSTART;TZID=Europe/Berlin:20210410T090000
DTEND;TZID=Europe/Berlin:20210418T180000
DTSTAMP:20260422T105328
CREATED:20210226T162750Z
LAST-MODIFIED:20210226T163017Z
UID:14250-1618045200-1618768800@www.gut-huehnerhof.de
SUMMARY:DGV-Platzreife (ab 10.04.2021)
DESCRIPTION:Dauer:\n4 Tage | Insgesamt 16 Stunden \nInhalt:\nSie möchten gerne in die vielfältige Welt des Golfsports eintauchen und das Golfspiel von Anfang an richtig und fundiert erlernen? Dann ist unser DGV-Platzreife-Kurs nach den Richtlinien des Deutschen Golfverbandes genau das Richtige für Sie!\nIn unserem Kurs vermitteln wir Ihnen über 16 Einheiten an nur zwei aufeinanderfolgenden Wochenenden in Theorie und Praxis alle Inhalte rund um die DGV-Platzreife. \nIn der Kursgebühr enthalten sind die Prüfungsgebühren für die praktische Prüfung auf dem 9-Loch-Platz und die theoretische Prüfung auf dem 18-Loch-Platz. Übungsrunden auf dem 9-Loch-Platz sind während des Kurses gegen Zahlung des Greenfees möglich. \nPreis pro Person:\n260\,00 € \nSie haben bereits einen Schnupperkurs bei uns absolviert? Wir rechnen Ihnen die Kursgebühr an! \nUhrzeiten:\nsamstags 09:00 – 13:00 | sonntags 14:00 – 18:00 Uhr \nKursaufbau:  \n\nTrainingstag 1: Trainingseinheiten auf der Driving Range und Übungsgelände am 9-Loch-Platz\nTrainingstag 2: Trainingseinheiten auf der Driving Range und Übungsgelände am 9-Loch-Platz\nTrainingstag 3: Theorieprüfung am 18-Loch-Platz\, danach Trainingseinheiten am 18- oder 9-Loch-Platz\nTrainingstag 4: Trainingseinheiten und praktische Prüfung am 9-Loch-Platz. Im Anschluss Übergabe der DGV-Platzreife-Unterlagen am 18-Loch-Platz\n\nWeitere Termine:\n01.05. & 02.05.2021 + 08.05. & 09.05.2021 | 22.05. & 23.05.2021 + 29.05. & 30.05.2021 | 12.06. & 13.06.2021 + 19.06. & 20.06.2021 | 03.07. & 04.07.2021 + 10.07. & 11.07.2021 | 24.07. & 25.07.2021 + 31.07. & 01.08.2021 | 14.08. & 15.08.2021 + 21.08. & 22.08.2021 | 04.09. & 05.09.2021 + 11.09. & 12.09.2021 | 25.09. & 26.09.2021 + 02.10. & 03.10.2021 |  16.10. & 17.10.2021 + 23.10. & 24.10.2021 |
URL:https://www.gut-huehnerhof.de/event/dgv-platzreife-10-04-2021/
LOCATION:Golfpark Gut Hühnerhof\, Am Golfplatz 1\, Gründau-Gettenbach\, Hessen\, 63584\, Deutschland
CATEGORIES:Golf
ATTACH;FMTTYPE=image/jpeg:https://www.gut-huehnerhof.de/wp-content/uploads/Kalender_DGV_Platzreife.jpg
ORGANIZER;CN="Golfsekretariat%20Gut%20H%C3%BChnerhof":MAILTO:golf@gut-huehnerhof.de
END:VEVENT
BEGIN:VEVENT
DTSTART;TZID=Europe/Berlin:20210417T090000
DTEND;TZID=Europe/Berlin:20210417T180000
DTSTAMP:20260422T105329
CREATED:20210305T073003Z
LAST-MODIFIED:20210408T113414Z
UID:14453-1618650000-1618682400@www.gut-huehnerhof.de
SUMMARY:Saisoneröffnungsturnier 18-LP (17.04.2021)
DESCRIPTION:Die Saison steckt noch in den Kinderschuhen und nach dem langen Winter steht nun das erste vorgabenwirksame Turnier an. So können Sie die Chance nutzen die Lorbeeren für harte Training der letzten saisonvorbereitenden Wochen zu ernten oder auch nur ganz entspannt Ihre Spielstärke zu erproben. \nAufgrund der aktuellen Landesbeschlüssen dürfen im Anschluss an das Turnier keine Versammlungen stattfinden\, sodass keine gemeinsame Siegerehrung stattfinden kann. Des Weiteren wird das Turnier in 2er Flights gespielt. Wir bitten um Verständnis und wünschen Ihnen trotz der besonderen Umstände einen erfolgreichen Saisonstart!
URL:https://www.gut-huehnerhof.de/event/saisoneroeffnungsturnier-18-lp-17-04-2021/
LOCATION:Golfpark Gut Hühnerhof\, Am Golfplatz 1\, Gründau-Gettenbach\, Hessen\, 63584\, Deutschland
CATEGORIES:Golf
ATTACH;FMTTYPE=image/jpeg:https://www.gut-huehnerhof.de/wp-content/uploads/Saisoneröffnungturnier.jpg
ORGANIZER;CN="Golfsekretariat%20Gut%20H%C3%BChnerhof":MAILTO:golf@gut-huehnerhof.de
END:VEVENT
BEGIN:VEVENT
DTSTART;TZID=Europe/Berlin:20210420T160000
DTEND;TZID=Europe/Berlin:20210420T180000
DTSTAMP:20260422T105329
CREATED:20210305T073157Z
LAST-MODIFIED:20210408T122442Z
UID:14456-1618934400-1618941600@www.gut-huehnerhof.de
SUMMARY:Sokols Pflegehelden Cup 9-LP (20.04.2021)
DESCRIPTION:Der Pflegehelden Cup besteht aus insgesamt 10 Turnieren\, die jeweils um 16.00 Uhr (im Hochsommer 17.00 Uhr) auf unserem 9-Loch-Platz mit einem Kanonenstart gespielt werden. Außerdem gibt es eine Jahreswertung mit einem hochwertigen Sonderpreis in Form einer Golfreise in der Brutto- und der Netto-Klasse. \nAufgrund der aktuellen Landesbeschlüssen dürfen im Anschluss an das Turnier keine Versammlungen stattfinden\, sodass keine gemeinsame Siegerehrung stattfinden kann. Des Weiteren wird das Turnier in 2er Flights gespielt. Wir bitten um Verständnis und wünschen Ihnen ein schönes Spiel!
URL:https://www.gut-huehnerhof.de/event/pflegehelden-cup-9-lp-20-04-2021/
LOCATION:Golfpark Gut Hühnerhof\, Am Golfplatz 1\, Gründau-Gettenbach\, Hessen\, 63584\, Deutschland
CATEGORIES:Golf
ATTACH;FMTTYPE=image/jpeg:https://www.gut-huehnerhof.de/wp-content/uploads/Kalender_Golfturniere_9LP-Turnier.jpg
ORGANIZER;CN="Golfsekretariat%20Gut%20H%C3%BChnerhof":MAILTO:golf@gut-huehnerhof.de
END:VEVENT
BEGIN:VEVENT
DTSTART;TZID=Europe/Berlin:20210425T150000
DTEND;TZID=Europe/Berlin:20210425T170000
DTSTAMP:20260422T105329
CREATED:20210226T155617Z
LAST-MODIFIED:20210226T155712Z
UID:14182-1619362800-1619370000@www.gut-huehnerhof.de
SUMMARY:Schnupperkurs (25.04.2021)
DESCRIPTION:Dauer:\n1 Tag / Insgesamt 2 Stunden \nInhalt: \n\nFür alle Golfinteressierten und Neueinsteiger – probieren Sie die faszinierende Sportart Golf einmal selbst aus! Einer unserer qualifizierten PGA-Golflehrer bringt Ihnen die verschiedenen Facetten des Golfsports näher\, sowohl in Theorie als auch in der Praxis.\nProbieren Sie erstmalig die verschiedenen Grundschläge „Putten“\, „Chippen“ und „Abschlag“ auf unserer Driving Range aus.\nKurs-Highlight: Testen Sie erste Golferfahrung bei einem Putting-Turnier! Nach den ersten Übungen auf der Driving Range und Chipping Anlage werden Sie ein Putting-Turnier spielen. So erleben Sie Turnier-Feeling hautnah! \nWir stellen Ihnen kostenfrei 2 Token für Übungsbälle und Golfschläger zur Verfügung!\n\nUhrzeit:\n15:00 – 17:00 Uhr \nWeitere Termine:\n16.05.2021 | 06.06.2021 | 27.06.2021 | 18.07.2021 | 08.08.2021 | 29.08.2021 | 19.09.2021 | 10.10.2021 | 31.10.2021
URL:https://www.gut-huehnerhof.de/event/schnupperkurs-25-04-2021/
LOCATION:Golfpark Gut Hühnerhof\, Am Golfplatz 1\, Gründau-Gettenbach\, Hessen\, 63584\, Deutschland
CATEGORIES:Golf
ATTACH;FMTTYPE=image/jpeg:https://www.gut-huehnerhof.de/wp-content/uploads/Kalender_Sshnupperkurs.jpg
ORGANIZER;CN="Golfsekretariat%20Gut%20H%C3%BChnerhof":MAILTO:golf@gut-huehnerhof.de
END:VEVENT
BEGIN:VEVENT
DTSTART;TZID=Europe/Berlin:20210428T130000
DTEND;TZID=Europe/Berlin:20210428T180000
DTSTAMP:20260422T105329
CREATED:20210305T094755Z
LAST-MODIFIED:20210408T122846Z
UID:14481-1619614800-1619632800@www.gut-huehnerhof.de
SUMMARY:Herren 18-LP (28.04.2021)
DESCRIPTION:Ein- bis zweimal im Monat treten die Herren auf den Abschlag\, um die Turniere der Herren-Golfserie zu beschreiten. \nAufgrund der aktuellen Landesbeschlüssen dürfen im Anschluss an das Turnier keine Versammlungen stattfinden\, sodass keine gemeinsame Siegerehrung stattfinden kann. Des Weiteren wird das Turnier in 2er Flights gespielt. Wir bitten um Verständnis und wünschen Ihnen ein schönes Spiel!
URL:https://www.gut-huehnerhof.de/event/herren-18-lp-28-04-2021/
LOCATION:Golfpark Gut Hühnerhof\, Am Golfplatz 1\, Gründau-Gettenbach\, Hessen\, 63584\, Deutschland
CATEGORIES:Golf
ATTACH;FMTTYPE=image/jpeg:https://www.gut-huehnerhof.de/wp-content/uploads/Kalender_Golfturniere_Herren_Turnier.jpg
ORGANIZER;CN="Golfsekretariat%20Gut%20H%C3%BChnerhof":MAILTO:golf@gut-huehnerhof.de
END:VEVENT
END:VCALENDAR