BEGIN:VCALENDAR
VERSION:2.0
PRODID:-//Gut Hühnerhof - ECPv5.16.4//NONSGML v1.0//EN
CALSCALE:GREGORIAN
METHOD:PUBLISH
X-ORIGINAL-URL:https://www.gut-huehnerhof.de
X-WR-CALDESC:Events for Gut Hühnerhof
REFRESH-INTERVAL;VALUE=DURATION:PT1H
X-Robots-Tag:noindex
X-PUBLISHED-TTL:PT1H
BEGIN:VTIMEZONE
TZID:Europe/Berlin
BEGIN:DAYLIGHT
TZOFFSETFROM:+0100
TZOFFSETTO:+0200
TZNAME:CEST
DTSTART:20210328T010000
END:DAYLIGHT
BEGIN:STANDARD
TZOFFSETFROM:+0200
TZOFFSETTO:+0100
TZNAME:CET
DTSTART:20211031T010000
END:STANDARD
END:VTIMEZONE
BEGIN:VEVENT
DTSTART;TZID=Europe/Berlin:20210601T170000
DTEND;TZID=Europe/Berlin:20210601T190000
DTSTAMP:20260424T140615
CREATED:20210305T074013Z
LAST-MODIFIED:20210531T133456Z
UID:14460-1622566800-1622574000@www.gut-huehnerhof.de
SUMMARY:Sokols Pflegehelden Cup 9-LP (01.06.2021)
DESCRIPTION:Der Pflegehelden Cup besteht aus insgesamt 10 Turnieren\, die jeweils um 16.00 Uhr (im Hochsommer 17.00 Uhr) auf unserem 9-Loch-Platz mit einem Kanonenstart gespielt werden. Außerdem gibt es eine Jahreswertung mit einem hochwertigen Sonderpreis in Form einer Golfreise in der Brutto- und der Netto-Klasse. \nDas Turnier in 2er Flights gespielt. Wir bitten um Verständnis und wünschen Ihnen ein schönes Spiel!
URL:https://www.gut-huehnerhof.de/event/pflegehelden-cup-9-lp-01-06-2021/
LOCATION:Golfpark Gut Hühnerhof\, Am Golfplatz 1\, Gründau-Gettenbach\, Hessen\, 63584\, Deutschland
CATEGORIES:Golf
ATTACH;FMTTYPE=image/jpeg:https://www.gut-huehnerhof.de/wp-content/uploads/Kalender_Golfturniere_9LP-Turnier.jpg
ORGANIZER;CN="Golfsekretariat%20Gut%20H%C3%BChnerhof":MAILTO:golf@gut-huehnerhof.de
END:VEVENT
BEGIN:VEVENT
DTSTART;TZID=Europe/Berlin:20210603T090000
DTEND;TZID=Europe/Berlin:20210606T130000
DTSTAMP:20260424T140615
CREATED:20210226T164956Z
LAST-MODIFIED:20210226T165035Z
UID:14288-1622710800-1622984400@www.gut-huehnerhof.de
SUMMARY:Ferien DGV-Platzreife (ab 03.06.2021)
DESCRIPTION:Dauer:\n4 Tage | Insgesamt 16 Stunden \nInhalt: \nSie möchten gerne in kurzer Zeit das Golfspiel von Anfang an fundiert und intensiv erlernen? Dann ist unser DGV-Platzreife-Ferienkurs genau das Richtige für Sie! In unserem Kurs vermitteln wir Ihnen in 16 Trainingseinheiten alle theoretischen und praktischen Inhalte rund um die DGV-Platzreife. In 4 Tagen erhalten Sie täglich 4 Unterrichtsstunden mit dem Golflehrer. Wir stellen Ihnen für den Zeitraum kostenfrei alle Übungsbälle zur Verfügung\, damit Sie auch außerhalb der Trainingseinheiten Ihre Golfkenntnisse im eigenen Training festigen und erweitern können. In der Kursgebühr sind außerdem die Prüfungsgebühren für die praktische Prüfung auf dem 9-Loch-Platz und die theoretische Prüfung auf dem 18-Loch-Platz enthalten. \nPreis pro Person:\n360\,00 € \nUhrzeiten:\ntäglich 09:00 – 13:00 Uhr \nWeitere Termine:\n19.07. – 22.07.2021 | 23.08. – 26.08.2021 | 11.10. – 14.10.2021 |
URL:https://www.gut-huehnerhof.de/event/ferien-dgv-platzreife-03-06-2021/
LOCATION:Golfpark Gut Hühnerhof\, Am Golfplatz 1\, Gründau-Gettenbach\, Hessen\, 63584\, Deutschland
CATEGORIES:Golf
ATTACH;FMTTYPE=image/jpeg:https://www.gut-huehnerhof.de/wp-content/uploads/Kalender_Ferien_DGV_Platzreife.jpg
ORGANIZER;CN="Golfsekretariat%20Gut%20H%C3%BChnerhof":MAILTO:golf@gut-huehnerhof.de
END:VEVENT
BEGIN:VEVENT
DTSTART;TZID=Europe/Berlin:20210606T090000
DTEND;TZID=Europe/Berlin:20210606T140000
DTSTAMP:20260424T140615
CREATED:20210305T114227Z
LAST-MODIFIED:20210531T133702Z
UID:14529-1622970000-1622988000@www.gut-huehnerhof.de
SUMMARY:Gut Hühnerhof Open 18-LP (06.06.2021)
DESCRIPTION:Das Gut Hühnerhof Open bietet seinen Teilnehmer*innen eine gute Möglichkeit Kontakte zu knüpfen. Durch die Flightzusammenstellung mit gemischten Handicaps lernen sich die Spieler*innen der unterschiedlichen Handicap-Klassen untereinander kennen und können gemeinsam ihrer liebsten Tätigkeit – dem Golfsport – nachgehen. \nDas Turnier wird in 2er Flights gespielt. Wir bitten um Verständnis und wünschen Ihnen ein schönes Spiel! \n\n\n 
URL:https://www.gut-huehnerhof.de/event/gut-huehnerhof-open-18-lp-06-06-2021/
LOCATION:Golfpark Gut Hühnerhof\, Am Golfplatz 1\, Gründau-Gettenbach\, Hessen\, 63584\, Deutschland
CATEGORIES:Golf
ATTACH;FMTTYPE=image/jpeg:https://www.gut-huehnerhof.de/wp-content/uploads/G.H.Open_.jpg
ORGANIZER;CN="Golfsekretariat%20Gut%20H%C3%BChnerhof":MAILTO:golf@gut-huehnerhof.de
END:VEVENT
BEGIN:VEVENT
DTSTART;TZID=Europe/Berlin:20210606T150000
DTEND;TZID=Europe/Berlin:20210606T170000
DTSTAMP:20260424T140615
CREATED:20210226T155828Z
LAST-MODIFIED:20210226T155907Z
UID:14190-1622991600-1622998800@www.gut-huehnerhof.de
SUMMARY:Schnupperkurs (06.06.2021)
DESCRIPTION:Dauer:\n1 Tag / Insgesamt 2 Stunden \nInhalt: \n\nFür alle Golfinteressierten und Neueinsteiger – probieren Sie die faszinierende Sportart Golf einmal selbst aus! Einer unserer qualifizierten PGA-Golflehrer bringt Ihnen die verschiedenen Facetten des Golfsports näher\, sowohl in Theorie als auch in der Praxis.\nProbieren Sie erstmalig die verschiedenen Grundschläge „Putten“\, „Chippen“ und „Abschlag“ auf unserer Driving Range aus.\nKurs-Highlight: Testen Sie erste Golferfahrung bei einem Putting-Turnier! Nach den ersten Übungen auf der Driving Range und Chipping Anlage werden Sie ein Putting-Turnier spielen. So erleben Sie Turnier-Feeling hautnah! \nWir stellen Ihnen kostenfrei 2 Token für Übungsbälle und Golfschläger zur Verfügung!\n\nUhrzeit:\n15:00 – 17:00 Uhr \nWeitere Termine:\n27.06.2021 | 18.07.2021 | 08.08.2021 | 29.08.2021 | 19.09.2021 | 10.10.2021 | 31.10.2021
URL:https://www.gut-huehnerhof.de/event/schnupperkurs-06-06-2021/
LOCATION:Golfpark Gut Hühnerhof\, Am Golfplatz 1\, Gründau-Gettenbach\, Hessen\, 63584\, Deutschland
CATEGORIES:Golf
ATTACH;FMTTYPE=image/jpeg:https://www.gut-huehnerhof.de/wp-content/uploads/Kalender_Sshnupperkurs.jpg
ORGANIZER;CN="Golfsekretariat%20Gut%20H%C3%BChnerhof":MAILTO:golf@gut-huehnerhof.de
END:VEVENT
BEGIN:VEVENT
DTSTART;TZID=Europe/Berlin:20210612T090000
DTEND;TZID=Europe/Berlin:20210613T180000
DTSTAMP:20260424T140615
CREATED:20210226T161520Z
LAST-MODIFIED:20210226T161610Z
UID:14227-1623488400-1623607200@www.gut-huehnerhof.de
SUMMARY:Gut Hühnerhof Platzerlaubnis (12.06. & 13.06.2021)
DESCRIPTION:Dauer:\n2 Tage / Insgesamt 8 Stunden \nInhalt:\nSie möchten gerne die faszinierende Sportart Golf kennenlernen und schon möglichst bald und unbürokratisch auf einem richtigen Golfplatz spielen? Dann ist unsere „Gut Hühnerhof Platzerlaubnis“ genau das Richtige für Sie!\nIn diesem 8-stündigen Kurs bekommen Sie das Rüstzeug in Theorie und Praxis für das Spielen auf unserer 9-Loch-Anlage an einem Wochenende an die Hand.\nMit der Gut Hühnerhof-Platzerlaubnis dürfen Sie gegen Zahlung des Greenfees unseren 9-Loch-Platz spielen.\nWir stellen Ihnen kostenfrei Golfschläger zur Verfügung! \nPreis pro Person:\n99\,00 € \nUhrzeit:\nSa. 09:00 – 13:00 | So. 14:00 – 18:00 Uhr \nWeitere Termine:\n03.07. & 04.07.2021 | 24.07. & 25.07.2021 | 14.08. & 15.08.2021 | 04.09. & 05.09.2021 | 25.09. & 26.09.2021 |  16.10. & 17.10.2021 |
URL:https://www.gut-huehnerhof.de/event/gut-huehnerhof-platzerlaubnis-12-06-2021/
LOCATION:Golfpark Gut Hühnerhof\, Am Golfplatz 1\, Gründau-Gettenbach\, Hessen\, 63584\, Deutschland
CATEGORIES:Golf
ATTACH;FMTTYPE=image/jpeg:https://www.gut-huehnerhof.de/wp-content/uploads/Kalender_Gut-Hühnerhof-Platzerlaubnis.jpg
ORGANIZER;CN="Golfsekretariat%20Gut%20H%C3%BChnerhof":MAILTO:golf@gut-huehnerhof.de
END:VEVENT
BEGIN:VEVENT
DTSTART;TZID=Europe/Berlin:20210612T090000
DTEND;TZID=Europe/Berlin:20210620T180000
DTSTAMP:20260424T140615
CREATED:20210226T163323Z
LAST-MODIFIED:20210226T163419Z
UID:14260-1623488400-1624212000@www.gut-huehnerhof.de
SUMMARY:DGV-Platzreife (ab 12.06.2021)
DESCRIPTION:Dauer:\n4 Tage | Insgesamt 16 Stunden \nInhalt:\nSie möchten gerne in die vielfältige Welt des Golfsports eintauchen und das Golfspiel von Anfang an richtig und fundiert erlernen? Dann ist unser DGV-Platzreife-Kurs nach den Richtlinien des Deutschen Golfverbandes genau das Richtige für Sie!\nIn unserem Kurs vermitteln wir Ihnen über 16 Einheiten an nur zwei aufeinanderfolgenden Wochenenden in Theorie und Praxis alle Inhalte rund um die DGV-Platzreife. \nIn der Kursgebühr enthalten sind die Prüfungsgebühren für die praktische Prüfung auf dem 9-Loch-Platz und die theoretische Prüfung auf dem 18-Loch-Platz. Übungsrunden auf dem 9-Loch-Platz sind während des Kurses gegen Zahlung des Greenfees möglich. \nPreis pro Person:\n260\,00 € \nSie haben bereits einen Schnupperkurs bei uns absolviert? Wir rechnen Ihnen die Kursgebühr an! \nUhrzeiten:\nsamstags 09:00 – 13:00 | sonntags 14:00 – 18:00 Uhr \nKursaufbau:  \n\nTrainingstag 1: Trainingseinheiten auf der Driving Range und Übungsgelände am 9-Loch-Platz\nTrainingstag 2: Trainingseinheiten auf der Driving Range und Übungsgelände am 9-Loch-Platz\nTrainingstag 3: Theorieprüfung am 18-Loch-Platz\, danach Trainingseinheiten am 18- oder 9-Loch-Platz\nTrainingstag 4: Trainingseinheiten und praktische Prüfung am 9-Loch-Platz. Im Anschluss Übergabe der DGV-Platzreife-Unterlagen am 18-Loch-Platz\n\nWeitere Termine:\n03.07. & 04.07.2021 + 10.07. & 11.07.2021 | 24.07. & 25.07.2021 + 31.07. & 01.08.2021 | 14.08. & 15.08.2021 + 21.08. & 22.08.2021 | 04.09. & 05.09.2021 + 11.09. & 12.09.2021 | 25.09. & 26.09.2021 + 02.10. & 03.10.2021 |  16.10. & 17.10.2021 + 23.10. & 24.10.2021 |
URL:https://www.gut-huehnerhof.de/event/dgv-platzreife-12-06-2021/
LOCATION:Golfpark Gut Hühnerhof\, Am Golfplatz 1\, Gründau-Gettenbach\, Hessen\, 63584\, Deutschland
CATEGORIES:Golf
ATTACH;FMTTYPE=image/jpeg:https://www.gut-huehnerhof.de/wp-content/uploads/Kalender_DGV_Platzreife.jpg
ORGANIZER;CN="Golfsekretariat%20Gut%20H%C3%BChnerhof":MAILTO:golf@gut-huehnerhof.de
END:VEVENT
BEGIN:VEVENT
DTSTART;TZID=Europe/Berlin:20210614T130000
DTEND;TZID=Europe/Berlin:20210614T180000
DTSTAMP:20260424T140615
CREATED:20210305T113817Z
LAST-MODIFIED:20210527T213446Z
UID:14514-1623675600-1623693600@www.gut-huehnerhof.de
SUMMARY:JAB ANSTOETZ Ladies Cup 18-LP (14.06.2021)
DESCRIPTION:Der JAB ANSTOETZ LADIES CUP findet in 2021 erstmals im Golfpark Gut Hühnerhof mit insgesamt 3 Turnieren statt. An das letzte Turnier schließt sich eine gemeinsame Abendveranstaltung an\, sofern es die aktuellen Landesbeschlüsse zulassen. Die Teilnehmerinnen erwarten bereits am Start Tee-Präsente und außerdem hochwertige Preise. Aus den Ergebnissen der drei Spieltage wird durch die Eclecticwertung die Club-Gesamtsiegerin des JAB ANSTOETZ Ladies Cup ermittelt. Die Clubsiegerin erhält einen Übernachtungsarrangement / Hotelgutschein für 2 Personen.
URL:https://www.gut-huehnerhof.de/event/jab-anstoetz-ladies-cup-18-lp-14-06-2021/
LOCATION:Golfpark Gut Hühnerhof\, Am Golfplatz 1\, Gründau-Gettenbach\, Hessen\, 63584\, Deutschland
CATEGORIES:Golf
ATTACH;FMTTYPE=image/jpeg:https://www.gut-huehnerhof.de/wp-content/uploads/Kalender_Golfturniere_Damen_Turnier-1.jpg
ORGANIZER;CN="Golfsekretariat%20Gut%20H%C3%BChnerhof":MAILTO:golf@gut-huehnerhof.de
END:VEVENT
BEGIN:VEVENT
DTSTART;TZID=Europe/Berlin:20210616T130000
DTEND;TZID=Europe/Berlin:20210616T180000
DTSTAMP:20260424T140615
CREATED:20210305T095200Z
LAST-MODIFIED:20210531T133954Z
UID:14486-1623848400-1623866400@www.gut-huehnerhof.de
SUMMARY:Herren 18-LP (16.06.2021)
DESCRIPTION:Ein- bis zweimal im Monat treten die Herren auf den Abschlag\, um die Turniere der Herren-Golfserie zu beschreiten.
URL:https://www.gut-huehnerhof.de/event/herren-18-lp-16-06-2021/
LOCATION:Golfpark Gut Hühnerhof\, Am Golfplatz 1\, Gründau-Gettenbach\, Hessen\, 63584\, Deutschland
CATEGORIES:Golf
ATTACH;FMTTYPE=image/jpeg:https://www.gut-huehnerhof.de/wp-content/uploads/Kalender_Golfturniere_Herren_Turnier.jpg
ORGANIZER;CN="Golfsekretariat%20Gut%20H%C3%BChnerhof":MAILTO:golf@gut-huehnerhof.de
END:VEVENT
BEGIN:VEVENT
DTSTART;TZID=Europe/Berlin:20210620T070000
DTEND;TZID=Europe/Berlin:20210620T120000
DTSTAMP:20260424T140615
CREATED:20210305T114605Z
LAST-MODIFIED:20210531T134024Z
UID:14536-1624172400-1624190400@www.gut-huehnerhof.de
SUMMARY:Early Bird 18 LP (20.06.2021)
DESCRIPTION:„Der frühe Vogel fängt den Wurm“ – getreu nach diesem Motto starten wir auch in der Saison 2021 wieder standesgemäß unser Early Bird-Turnier. Also an alle Frühaufsteher unter Ihnen – nutzen Sie Ihre Chance einer frühen Startzeit und beginnen Sie Ihren Tag frisch und entspannt mit einer Golfrunde. Für alle noch nicht so Munteren steht selbstverständlich die Kaffeemaschine bereit.
URL:https://www.gut-huehnerhof.de/event/early-bird-18-lp-20-06-2021/
LOCATION:Golfpark Gut Hühnerhof\, Am Golfplatz 1\, Gründau-Gettenbach\, Hessen\, 63584\, Deutschland
CATEGORIES:Golf
ATTACH;FMTTYPE=image/jpeg:https://www.gut-huehnerhof.de/wp-content/uploads/Kalender_Golfturniere_Early_Bird_Turnier.jpg
ORGANIZER;CN="Golfsekretariat%20Gut%20H%C3%BChnerhof":MAILTO:golf@gut-huehnerhof.de
END:VEVENT
BEGIN:VEVENT
DTSTART;TZID=Europe/Berlin:20210620T090000
DTEND;TZID=Europe/Berlin:20210620T110000
DTSTAMP:20260424T140615
CREATED:20210321T122637Z
LAST-MODIFIED:20210531T134137Z
UID:14597-1624179600-1624186800@www.gut-huehnerhof.de
SUMMARY:Kinder- & Jugendturnier 9-LP (20.06.2021)
DESCRIPTION:Das Kinder- & Jugendturnier richtet sich an alle aufstrebenden Talente unserer Golfjugend. Gerne können aber auch Gastspieler aus anderen Clubs teilnehmen.  Das Turnier findet auf unserem 9-Loch-Platz statt\, sodass auch mal die Jüngeren in den Genuss kommen eine komplette Turnierrunde spielen zu können.
URL:https://www.gut-huehnerhof.de/event/kinder-jugend-9-lp-20-06-2021/
LOCATION:Golfpark Gut Hühnerhof\, Am Golfplatz 1\, Gründau-Gettenbach\, Hessen\, 63584\, Deutschland
CATEGORIES:Golf
ATTACH;FMTTYPE=image/jpeg:https://www.gut-huehnerhof.de/wp-content/uploads/Kalender_Golfturniere_Kinder_Jugend_Turniere.jpg
ORGANIZER;CN="Golfsekretariat%20Gut%20H%C3%BChnerhof":MAILTO:golf@gut-huehnerhof.de
END:VEVENT
BEGIN:VEVENT
DTSTART;TZID=Europe/Berlin:20210622T170000
DTEND;TZID=Europe/Berlin:20210622T190000
DTSTAMP:20260424T140615
CREATED:20210305T074140Z
LAST-MODIFIED:20210531T134204Z
UID:14462-1624381200-1624388400@www.gut-huehnerhof.de
SUMMARY:Pflegehelden Cup 9-LP (22.06.2021)
DESCRIPTION:Der Pflegehelden Cup besteht aus insgesamt 10 Turnieren\, die jeweils um 16.00 Uhr (im Hochsommer 17.00 Uhr) auf unserem 9-Loch-Platz mit einem Kanonenstart gespielt werden. Außerdem gibt es eine Jahreswertung mit einem hochwertigen Sonderpreis in Form einer Golfreise in der Brutto- und der Netto-Klasse.
URL:https://www.gut-huehnerhof.de/event/pflegehelden-cup-9-lp-22-06-2021/
LOCATION:Golfpark Gut Hühnerhof\, Am Golfplatz 1\, Gründau-Gettenbach\, Hessen\, 63584\, Deutschland
CATEGORIES:Golf
ATTACH;FMTTYPE=image/jpeg:https://www.gut-huehnerhof.de/wp-content/uploads/Kalender_Golfturniere_9LP-Turnier.jpg
ORGANIZER;CN="Golfsekretariat%20Gut%20H%C3%BChnerhof":MAILTO:golf@gut-huehnerhof.de
END:VEVENT
BEGIN:VEVENT
DTSTART;TZID=Europe/Berlin:20210627T150000
DTEND;TZID=Europe/Berlin:20210627T170000
DTSTAMP:20260424T140615
CREATED:20210226T160006Z
LAST-MODIFIED:20210226T160037Z
UID:14194-1624806000-1624813200@www.gut-huehnerhof.de
SUMMARY:Schnupperkurs (27.06.2021)
DESCRIPTION:Dauer:\n1 Tag / Insgesamt 2 Stunden \nInhalt: \n\nFür alle Golfinteressierten und Neueinsteiger – probieren Sie die faszinierende Sportart Golf einmal selbst aus! Einer unserer qualifizierten PGA-Golflehrer bringt Ihnen die verschiedenen Facetten des Golfsports näher\, sowohl in Theorie als auch in der Praxis.\nProbieren Sie erstmalig die verschiedenen Grundschläge „Putten“\, „Chippen“ und „Abschlag“ auf unserer Driving Range aus.\nKurs-Highlight: Testen Sie erste Golferfahrung bei einem Putting-Turnier! Nach den ersten Übungen auf der Driving Range und Chipping Anlage werden Sie ein Putting-Turnier spielen. So erleben Sie Turnier-Feeling hautnah! \nWir stellen Ihnen kostenfrei 2 Token für Übungsbälle und Golfschläger zur Verfügung!\n\nUhrzeit:\n15:00 – 17:00 Uhr \nWeitere Termine:\n18.07.2021 | 08.08.2021 | 29.08.2021 | 19.09.2021 | 10.10.2021 | 31.10.2021
URL:https://www.gut-huehnerhof.de/event/schnupperkurs-27-06-2021/
LOCATION:Golfpark Gut Hühnerhof\, Am Golfplatz 1\, Gründau-Gettenbach\, Hessen\, 63584\, Deutschland
CATEGORIES:Golf
ATTACH;FMTTYPE=image/jpeg:https://www.gut-huehnerhof.de/wp-content/uploads/Kalender_Sshnupperkurs.jpg
ORGANIZER;CN="Golfsekretariat%20Gut%20H%C3%BChnerhof":MAILTO:golf@gut-huehnerhof.de
END:VEVENT
BEGIN:VEVENT
DTSTART;TZID=Europe/Berlin:20210630T130000
DTEND;TZID=Europe/Berlin:20210630T180000
DTSTAMP:20260424T140615
CREATED:20210305T095250Z
LAST-MODIFIED:20210531T134222Z
UID:14488-1625058000-1625076000@www.gut-huehnerhof.de
SUMMARY:Herren 18-LP (30.06.2021)
DESCRIPTION:Ein- bis zweimal im Monat treten die Herren auf den Abschlag\, um die Turniere der Herren-Golfserie zu beschreiten.
URL:https://www.gut-huehnerhof.de/event/herren-18-lp-30-06-2021/
LOCATION:Golfpark Gut Hühnerhof\, Am Golfplatz 1\, Gründau-Gettenbach\, Hessen\, 63584\, Deutschland
CATEGORIES:Golf
ATTACH;FMTTYPE=image/jpeg:https://www.gut-huehnerhof.de/wp-content/uploads/Kalender_Golfturniere_Herren_Turnier.jpg
ORGANIZER;CN="Golfsekretariat%20Gut%20H%C3%BChnerhof":MAILTO:golf@gut-huehnerhof.de
END:VEVENT
END:VCALENDAR